BEGIN:VCALENDAR
PRODID:-//kirchenweb.ch gmbh//veranstaltungsausgabe v2.0//DE
VERSION:2.0
METHOD:PUBLISH
BEGIN:VEVENT
DTSTART:20260429T170000Z
DTEND:20260429T215000Z
LOCATION:Kirche Rein\, Kirchweg 10\, 5235  Rüfenach
TRANSP:OPAQUE
SEQUENCE:0
UID:6868-veranstaltung@ref-rein.ch
DTSTAMP:20260420T062239Z
DESCRIPTION:Feuerwehrübung\n\nKontakt: Pfr. Michael Rust\n\nWeitere
  Infos: https://www.ref-rein.ch/veranstaltung/6868
SUMMARY:Kirche und um die Kirche geschlossen
PRIORITY:5
X-MICROSOFT-CDO-IMPORTANCE:1
CLASS:PUBLIC
END:VEVENT
END:VCALENDAR
