BEGIN:VCALENDAR
PRODID:-//kirchenweb.ch gmbh//veranstaltungsausgabe v2.0//DE
VERSION:2.0
METHOD:PUBLISH
BEGIN:VEVENT
DTSTART:20261020T123000Z
DTEND:20261020T133000Z
LOCATION:Kirche Rein\, Kirchweg 10\, 5235  Rüfenach
TRANSP:OPAQUE
SEQUENCE:0
UID:6732-veranstaltung@ref-rein.ch
DTSTAMP:20251210T114025Z
DESCRIPTION:Begegnung mit dem Judentum und Christentum\n\nKontakt: Ruth
  Peter\n\nWeitere Infos: https://www.ref-rein.ch/veranstaltung/6732
SUMMARY:Seniorennachmittag
PRIORITY:5
X-MICROSOFT-CDO-IMPORTANCE:1
CLASS:PUBLIC
END:VEVENT
END:VCALENDAR
