BEGIN:VCALENDAR
PRODID:-//kirchenweb.ch gmbh//veranstaltungsausgabe v2.0//DE
VERSION:2.0
METHOD:PUBLISH
BEGIN:VEVENT
DTSTART:20260919T140000Z
DTEND:20260919T150000Z
LOCATION:Kirche Rein\, Kirchweg 10\, 5235  Rüfenach
TRANSP:OPAQUE
SEQUENCE:0
UID:6669-veranstaltung@ref-rein.ch
DTSTAMP:20260218T121403Z
DESCRIPTION:Kontakt: Pfr. Michael Rust\n\nWeitere Infos:
  https://www.ref-rein.ch/veranstaltung/6669
SUMMARY:Fiire mit de Chliine-Kindergottesdienst
PRIORITY:5
X-MICROSOFT-CDO-IMPORTANCE:1
CLASS:PUBLIC
END:VEVENT
END:VCALENDAR
