BEGIN:VCALENDAR
PRODID:-//kirchenweb.ch gmbh//veranstaltungsausgabe v2.0//DE
VERSION:2.0
METHOD:PUBLISH
BEGIN:VEVENT
DTSTART;VALUE=DATE:20260525
DTEND;VALUE=DATE:20260526
LOCATION:\, \,
TRANSP:OPAQUE
SEQUENCE:0
UID:6633-veranstaltung@ref-rein.ch
DTSTAMP:20251211T144108Z
DESCRIPTION:bis Freitag\, 29. Mai\n \nanja.berezynski\n\nKontakt:
  lotti.haerdi@ref-rein.ch\n\nWeitere Infos:
  https://www.ref-rein.ch/veranstaltung/6633
SUMMARY:Amtswoche Pfrn. Anja Berezynski
PRIORITY:5
X-MICROSOFT-CDO-IMPORTANCE:1
CLASS:PUBLIC
END:VEVENT
END:VCALENDAR
