BEGIN:VCALENDAR
PRODID:-//kirchenweb.ch gmbh//veranstaltungsausgabe v2.0//DE
VERSION:2.0
METHOD:PUBLISH
BEGIN:VEVENT
DTSTART;VALUE=DATE:20260427
DTEND;VALUE=DATE:20260428
LOCATION:\, \,
TRANSP:OPAQUE
SEQUENCE:0
UID:6603-veranstaltung@ref-rein.ch
DTSTAMP:20251211T143459Z
DESCRIPTION:bis Freitag\, 1. Mai\n \nmichael.rust\n\nKontakt:
  lotti.haerdi@ref-rein.ch\n\nWeitere Infos:
  https://www.ref-rein.ch/veranstaltung/6603
SUMMARY:Amtswoche Pfr. M. Rust
PRIORITY:5
X-MICROSOFT-CDO-IMPORTANCE:1
CLASS:PUBLIC
END:VEVENT
END:VCALENDAR
