BEGIN:VCALENDAR
PRODID:-//kirchenweb.ch gmbh//veranstaltungsausgabe v2.0//DE
VERSION:2.0
METHOD:PUBLISH
BEGIN:VEVENT
DTSTART;VALUE=DATE:20260420
DTEND;VALUE=DATE:20260421
LOCATION:\, \,
TRANSP:OPAQUE
SEQUENCE:0
UID:6602-veranstaltung@ref-rein.ch
DTSTAMP:20251211T141821Z
DESCRIPTION:bis Freitag\, 24. April\n \nmichael.rust\n\nKontakt:
  lotti.haerdi@ref-rein.ch\n\nWeitere Infos:
  https://www.ref-rein.ch/veranstaltung/6602
SUMMARY:Amtswoche Pfr. M. Rust
PRIORITY:5
X-MICROSOFT-CDO-IMPORTANCE:1
CLASS:PUBLIC
END:VEVENT
END:VCALENDAR
