BEGIN:VCALENDAR
PRODID:-//kirchenweb.ch gmbh//veranstaltungsausgabe v2.0//DE
VERSION:2.0
METHOD:PUBLISH
BEGIN:VEVENT
DTSTART:20260503T083000Z
DTEND:20260503T093000Z
LOCATION:Kirche Remigen\, Kirchweg\, 5236 Remigen
TRANSP:OPAQUE
SEQUENCE:0
UID:6539-veranstaltung@ref-rein.ch
DTSTAMP:20251211T143531Z
DESCRIPTION:Kontakt: Pfrn. Anja Berezynski\n\nWeitere Infos:
  https://www.ref-rein.ch/veranstaltung/6539
SUMMARY:Gottesdienst Remigen
PRIORITY:5
X-MICROSOFT-CDO-IMPORTANCE:1
CLASS:PUBLIC
END:VEVENT
END:VCALENDAR
