BEGIN:VCALENDAR
PRODID:-//kirchenweb.ch gmbh//veranstaltungsausgabe v2.0//DE
VERSION:2.0
METHOD:PUBLISH
BEGIN:VEVENT
DTSTART:20260503T073000Z
DTEND:20260503T083000Z
LOCATION:Kirche Villigen\, Mandacherstrasse\, 5234 Villigen
TRANSP:OPAQUE
SEQUENCE:0
UID:6530-veranstaltung@ref-rein.ch
DTSTAMP:20251211T143521Z
DESCRIPTION:Kontakt: Pfrn. Anja Berezynski\n\nWeitere Infos:
  https://www.ref-rein.ch/veranstaltung/6530
SUMMARY:Gottesdienst Villigen
PRIORITY:5
X-MICROSOFT-CDO-IMPORTANCE:1
CLASS:PUBLIC
END:VEVENT
END:VCALENDAR
