BEGIN:VCALENDAR
PRODID:-//kirchenweb.ch gmbh//veranstaltungsausgabe v2.0//DE
VERSION:2.0
METHOD:PUBLISH
BEGIN:VEVENT
DTSTART:20260424T170000Z
DTEND:20260424T200000Z
LOCATION:Jugendraum / UG Konfihüsli\, Kirchweg 10\, 5235  Rüfenach
TRANSP:OPAQUE
SEQUENCE:0
UID:6465-veranstaltung@ref-rein.ch
DTSTAMP:20250625T065913Z
DESCRIPTION:Für alle JUGENDLICHEN  von der 3. bis 7. Klasse\n\nKontakt:
  Michael Rust\n\nWeitere Infos: https://www.ref-rein.ch/veranstaltung/6465
SUMMARY:Jugendtreff - Tiny Teens
PRIORITY:5
X-MICROSOFT-CDO-IMPORTANCE:1
CLASS:PUBLIC
END:VEVENT
END:VCALENDAR
